BEGIN:VCALENDAR
VERSION:2.0
PRODID:-//Kreisfeuerwehr Osnabr&uuml;ck - ECPv6.15.20//NONSGML v1.0//EN
CALSCALE:GREGORIAN
METHOD:PUBLISH
X-WR-CALNAME:Kreisfeuerwehr Osnabr&uuml;ck
X-ORIGINAL-URL:https://kreisfeuerwehr-osnabrueck.de
X-WR-CALDESC:Veranstaltungen für Kreisfeuerwehr Osnabr&uuml;ck
REFRESH-INTERVAL;VALUE=DURATION:PT1H
X-Robots-Tag:noindex
X-PUBLISHED-TTL:PT1H
BEGIN:VTIMEZONE
TZID:Europe/Berlin
BEGIN:DAYLIGHT
TZOFFSETFROM:+0100
TZOFFSETTO:+0200
TZNAME:CEST
DTSTART:20220327T010000
END:DAYLIGHT
BEGIN:STANDARD
TZOFFSETFROM:+0200
TZOFFSETTO:+0100
TZNAME:CET
DTSTART:20221030T010000
END:STANDARD
BEGIN:DAYLIGHT
TZOFFSETFROM:+0100
TZOFFSETTO:+0200
TZNAME:CEST
DTSTART:20230326T010000
END:DAYLIGHT
BEGIN:STANDARD
TZOFFSETFROM:+0200
TZOFFSETTO:+0100
TZNAME:CET
DTSTART:20231029T010000
END:STANDARD
BEGIN:DAYLIGHT
TZOFFSETFROM:+0100
TZOFFSETTO:+0200
TZNAME:CEST
DTSTART:20240331T010000
END:DAYLIGHT
BEGIN:STANDARD
TZOFFSETFROM:+0200
TZOFFSETTO:+0100
TZNAME:CET
DTSTART:20241027T010000
END:STANDARD
END:VTIMEZONE
BEGIN:VEVENT
DTSTART;TZID=Europe/Berlin:20230513T150000
DTEND;TZID=Europe/Berlin:20230513T150000
DTSTAMP:20260425T163051
CREATED:20230418T120855Z
LAST-MODIFIED:20230511T100406Z
UID:8448-1683990000-1683990000@kreisfeuerwehr-osnabrueck.de
SUMMARY:Einweihung Feuerwehrhaus und Abend der offenen Tore bei der Feuerwehr Schwagstorf - Gemeinde Ostercappeln
DESCRIPTION:2023_Plakat-Schwagstorf \n15.00 Uhr offizielle Einweihung Feuerwehrhaus \nab 17.00 Uhr offene Tore – Feuerwehr zum Anfassen buntes Rahmenprogramm für Jung und Alt\,\nFahrzeugausstellung\, Einsatzübungen\, Kinderprogramm mit Feuerwehr-Quiz\, Hüpfburg\, Wasserspiele\, Imbiss\,\nGetränke und vieles mehr.
URL:https://kreisfeuerwehr-osnabrueck.de/event/abend-der-offenen-tore-bei-der-feuerwehr-schwagstorf-gemeinde-ostercappeln/
LOCATION:Feuerwehrhaus Schwagstorf\, Mühlenstraße\, Ostercappeln\, 49179
ATTACH;FMTTYPE=image/jpeg:https://kreisfeuerwehr-osnabrueck.de/wp-content/uploads/2023/04/fwhSchwagstorf.jpg
END:VEVENT
END:VCALENDAR